BEGIN:VCALENDAR
VERSION:2.0
PRODID:-//Dapo - ECPv6.15.18//NONSGML v1.0//EN
CALSCALE:GREGORIAN
METHOD:PUBLISH
X-WR-CALNAME:Dapo
X-ORIGINAL-URL:https://www.dapo.be
X-WR-CALDESC:Évènements pour Dapo
REFRESH-INTERVAL;VALUE=DURATION:PT1H
X-Robots-Tag:noindex
X-PUBLISHED-TTL:PT1H
BEGIN:VTIMEZONE
TZID:Europe/Brussels
BEGIN:DAYLIGHT
TZOFFSETFROM:+0100
TZOFFSETTO:+0200
TZNAME:CEST
DTSTART:20250330T010000
END:DAYLIGHT
BEGIN:STANDARD
TZOFFSETFROM:+0200
TZOFFSETTO:+0100
TZNAME:CET
DTSTART:20251026T010000
END:STANDARD
BEGIN:DAYLIGHT
TZOFFSETFROM:+0100
TZOFFSETTO:+0200
TZNAME:CEST
DTSTART:20260329T010000
END:DAYLIGHT
BEGIN:STANDARD
TZOFFSETFROM:+0200
TZOFFSETTO:+0100
TZNAME:CET
DTSTART:20261025T010000
END:STANDARD
BEGIN:DAYLIGHT
TZOFFSETFROM:+0100
TZOFFSETTO:+0200
TZNAME:CEST
DTSTART:20270328T010000
END:DAYLIGHT
BEGIN:STANDARD
TZOFFSETFROM:+0200
TZOFFSETTO:+0100
TZNAME:CET
DTSTART:20271031T010000
END:STANDARD
END:VTIMEZONE
BEGIN:VEVENT
DTSTART;TZID=Europe/Brussels:20260423T193000
DTEND;TZID=Europe/Brussels:20260423T220000
DTSTAMP:20260423T122035
CREATED:20260330T105530Z
LAST-MODIFIED:20260411T131054Z
UID:3015-1776972600-1776981600@www.dapo.be
SUMMARY:Portes ouvertes Tango
DESCRIPTION:Jeudi : tango : débutant à 19h30\, inter-avancé à 21h. \nRenseignements : Nicolas Surra Spadea  (nicolasaudreytango@gmail.com) \nRetrouvez l’ensemble du programme de la Quinzaine de la Danse ici.
URL:https://www.dapo.be/event/portes-ouvertes-tango/
LOCATION:Le Harby\, Rue G. Mauroy\, Quevaucamps\, Hainaut\, 7972\, Belgique
CATEGORIES:Animations,Quinzaine de la Danse
ATTACH;FMTTYPE=image/jpeg:https://www.dapo.be/wp/wp-content/uploads/2025/05/BalHarby-7.jpg
ORGANIZER;CN="Pas d'la Yau":MAILTO:pasdlayau@gmail.com
END:VEVENT
BEGIN:VEVENT
DTSTART;TZID=Europe/Brussels:20260423T200000
DTEND;TZID=Europe/Brussels:20260423T220000
DTSTAMP:20260423T122035
CREATED:20260330T110421Z
LAST-MODIFIED:20260330T110421Z
UID:3030-1776974400-1776981600@www.dapo.be
SUMMARY:Portes ouvertes à la Farandole d'Anderlecht - Adultes\, n°2
DESCRIPTION:
URL:https://www.dapo.be/event/portes-ouvertes-a-la-farandole-danderlecht-adultes-n2/
LOCATION:Hainaut
CATEGORIES:Animations,Quinzaine de la Danse
ATTACH;FMTTYPE=image/png:https://www.dapo.be/wp/wp-content/uploads/2026/03/Po-Ouv-2026-Farandole.png
ORGANIZER;CN="Farandole Anderlecht":MAILTO:info@farandoledanderlecht.be
END:VEVENT
BEGIN:VEVENT
DTSTART;TZID=Europe/Brussels:20260423T200000
DTEND;TZID=Europe/Brussels:20260423T220000
DTSTAMP:20260423T122035
CREATED:20260411T130702Z
LAST-MODIFIED:20260411T131035Z
UID:3077-1776974400-1776981600@www.dapo.be
SUMMARY:Portes ouvertes à la Caracole
DESCRIPTION:Le jeudi 23 avril\, porte ouverte de 20h à 22h à l’ADEPS à Jambes Namur organisée par « La Caracole » www.lacaracole.be \nRetrouvez l’ensemble du programme de la Quinzaine de la Danse ici.
URL:https://www.dapo.be/event/portes-ouvertes-a-la-caracole/
LOCATION:Hainaut
CATEGORIES:Animations,Quinzaine de la Danse
ATTACH;FMTTYPE=image/jpeg:https://www.dapo.be/wp/wp-content/uploads/2024/04/La-caracole-18e-scaled.jpg
ORGANIZER;CN="La Caracole":MAILTO:secretaire@lacaracole.be
END:VEVENT
END:VCALENDAR