BEGIN:VCALENDAR
VERSION:2.0
PRODID:-//Dapo - ECPv6.15.20//NONSGML v1.0//EN
CALSCALE:GREGORIAN
METHOD:PUBLISH
X-WR-CALNAME:Dapo
X-ORIGINAL-URL:https://www.dapo.be
X-WR-CALDESC:Évènements pour Dapo
REFRESH-INTERVAL;VALUE=DURATION:PT1H
X-Robots-Tag:noindex
X-PUBLISHED-TTL:PT1H
BEGIN:VTIMEZONE
TZID:Europe/Brussels
BEGIN:DAYLIGHT
TZOFFSETFROM:+0100
TZOFFSETTO:+0200
TZNAME:CEST
DTSTART:20230326T010000
END:DAYLIGHT
BEGIN:STANDARD
TZOFFSETFROM:+0200
TZOFFSETTO:+0100
TZNAME:CET
DTSTART:20231029T010000
END:STANDARD
BEGIN:DAYLIGHT
TZOFFSETFROM:+0100
TZOFFSETTO:+0200
TZNAME:CEST
DTSTART:20240331T010000
END:DAYLIGHT
BEGIN:STANDARD
TZOFFSETFROM:+0200
TZOFFSETTO:+0100
TZNAME:CET
DTSTART:20241027T010000
END:STANDARD
BEGIN:DAYLIGHT
TZOFFSETFROM:+0100
TZOFFSETTO:+0200
TZNAME:CEST
DTSTART:20250330T010000
END:DAYLIGHT
BEGIN:STANDARD
TZOFFSETFROM:+0200
TZOFFSETTO:+0100
TZNAME:CET
DTSTART:20251026T010000
END:STANDARD
END:VTIMEZONE
BEGIN:VEVENT
DTSTART;TZID=Europe/Brussels:20240802T183000
DTEND;TZID=Europe/Brussels:20240802T193000
DTSTAMP:20260424T015722
CREATED:20240614T125848Z
LAST-MODIFIED:20240614T125848Z
UID:2436-1722623400-1722627000@www.dapo.be
SUMMARY:Danses place Saint-Lambert à Bruxelles
DESCRIPTION:
URL:https://www.dapo.be/event/danses-place-saint-lambert-a-bruxelles-5/
LOCATION:Place Saint-Lambert\, Place Saint-Lambert\, 1200 Woluwe-Saint-Lambert\, Bruxelles\, 1200\, Belgique
CATEGORIES:Animations
ATTACH;FMTTYPE=image/jpeg:https://www.dapo.be/wp/wp-content/uploads/2024/06/Ete-St-Lambert-2024.jpg
END:VEVENT
BEGIN:VEVENT
DTSTART;TZID=Europe/Brussels:20240809T183000
DTEND;TZID=Europe/Brussels:20240809T213000
DTSTAMP:20260424T015722
CREATED:20240614T125942Z
LAST-MODIFIED:20240614T125942Z
UID:2438-1723228200-1723239000@www.dapo.be
SUMMARY:Danses place Saint-Lambert à Bruxelles
DESCRIPTION:
URL:https://www.dapo.be/event/danses-place-saint-lambert-a-bruxelles-6/
LOCATION:Place Saint-Lambert\, Place Saint-Lambert\, 1200 Woluwe-Saint-Lambert\, Bruxelles\, 1200\, Belgique
CATEGORIES:Animations
ATTACH;FMTTYPE=image/jpeg:https://www.dapo.be/wp/wp-content/uploads/2024/06/Ete-St-Lambert-2024.jpg
END:VEVENT
BEGIN:VEVENT
DTSTART;TZID=Europe/Brussels:20240811T120000
DTEND;TZID=Europe/Brussels:20240811T200000
DTSTAMP:20260424T015722
CREATED:20240614T125213Z
LAST-MODIFIED:20240614T125213Z
UID:2424-1723377600-1723406400@www.dapo.be
SUMMARY:Danses sur l'île d'Yvoir
DESCRIPTION:
URL:https://www.dapo.be/event/danses-sur-lile-dyvoir-2/
LOCATION:Ile d’Yvoir\, Rue de la Gare 6/Z\, Yvoir\, Namur\, 5530\, Belgique
CATEGORIES:Animations
ATTACH;FMTTYPE=image/png:https://www.dapo.be/wp/wp-content/uploads/2024/06/Aff.-Yvoir-2024.png
END:VEVENT
BEGIN:VEVENT
DTSTART;TZID=Europe/Brussels:20240816T183000
DTEND;TZID=Europe/Brussels:20240816T213000
DTSTAMP:20260424T015722
CREATED:20240614T130026Z
LAST-MODIFIED:20240614T130026Z
UID:2440-1723833000-1723843800@www.dapo.be
SUMMARY:Danses place Saint-Lambert à Bruxelles
DESCRIPTION:
URL:https://www.dapo.be/event/danses-place-saint-lambert-a-bruxelles-7/
LOCATION:Place Saint-Lambert\, Place Saint-Lambert\, 1200 Woluwe-Saint-Lambert\, Bruxelles\, 1200\, Belgique
CATEGORIES:Animations
ATTACH;FMTTYPE=image/jpeg:https://www.dapo.be/wp/wp-content/uploads/2024/06/Ete-St-Lambert-2024.jpg
END:VEVENT
BEGIN:VEVENT
DTSTART;TZID=Europe/Brussels:20240823T183000
DTEND;TZID=Europe/Brussels:20240823T213000
DTSTAMP:20260424T015722
CREATED:20240614T130112Z
LAST-MODIFIED:20240614T130112Z
UID:2442-1724437800-1724448600@www.dapo.be
SUMMARY:Danses place Saint-Lambert à Bruxelles
DESCRIPTION:
URL:https://www.dapo.be/event/danses-place-saint-lambert-a-bruxelles-8/
LOCATION:Place Saint-Lambert\, Place Saint-Lambert\, 1200 Woluwe-Saint-Lambert\, Bruxelles\, 1200\, Belgique
CATEGORIES:Animations
ATTACH;FMTTYPE=image/jpeg:https://www.dapo.be/wp/wp-content/uploads/2024/06/Ete-St-Lambert-2024.jpg
END:VEVENT
BEGIN:VEVENT
DTSTART;TZID=Europe/Brussels:20240830T183000
DTEND;TZID=Europe/Brussels:20240830T213000
DTSTAMP:20260424T015722
CREATED:20240614T130158Z
LAST-MODIFIED:20240614T130158Z
UID:2444-1725042600-1725053400@www.dapo.be
SUMMARY:Danses place Saint-Lambert à Bruxelles
DESCRIPTION:
URL:https://www.dapo.be/event/danses-place-saint-lambert-a-bruxelles-9/
LOCATION:Place Saint-Lambert\, Place Saint-Lambert\, 1200 Woluwe-Saint-Lambert\, Bruxelles\, 1200\, Belgique
CATEGORIES:Animations
ATTACH;FMTTYPE=image/jpeg:https://www.dapo.be/wp/wp-content/uploads/2024/06/Ete-St-Lambert-2024.jpg
END:VEVENT
END:VCALENDAR