BEGIN:VCALENDAR
VERSION:2.0
PRODID:-//Dapo - ECPv6.15.20//NONSGML v1.0//EN
CALSCALE:GREGORIAN
METHOD:PUBLISH
X-WR-CALNAME:Dapo
X-ORIGINAL-URL:https://www.dapo.be
X-WR-CALDESC:Évènements pour Dapo
REFRESH-INTERVAL;VALUE=DURATION:PT1H
X-Robots-Tag:noindex
X-PUBLISHED-TTL:PT1H
BEGIN:VTIMEZONE
TZID:Europe/Brussels
BEGIN:DAYLIGHT
TZOFFSETFROM:+0100
TZOFFSETTO:+0200
TZNAME:CEST
DTSTART:20230326T010000
END:DAYLIGHT
BEGIN:STANDARD
TZOFFSETFROM:+0200
TZOFFSETTO:+0100
TZNAME:CET
DTSTART:20231029T010000
END:STANDARD
BEGIN:DAYLIGHT
TZOFFSETFROM:+0100
TZOFFSETTO:+0200
TZNAME:CEST
DTSTART:20240331T010000
END:DAYLIGHT
BEGIN:STANDARD
TZOFFSETFROM:+0200
TZOFFSETTO:+0100
TZNAME:CET
DTSTART:20241027T010000
END:STANDARD
BEGIN:DAYLIGHT
TZOFFSETFROM:+0100
TZOFFSETTO:+0200
TZNAME:CEST
DTSTART:20250330T010000
END:DAYLIGHT
BEGIN:STANDARD
TZOFFSETFROM:+0200
TZOFFSETTO:+0100
TZNAME:CET
DTSTART:20251026T010000
END:STANDARD
END:VTIMEZONE
BEGIN:VEVENT
DTSTART;TZID=Europe/Brussels:20240406T170000
DTEND;TZID=Europe/Brussels:20240406T233000
DTSTAMP:20260424T042213
CREATED:20231017T050416Z
LAST-MODIFIED:20240321T174828Z
UID:2081-1712422800-1712446200@www.dapo.be
SUMMARY:13ème Harkada - Marathon de danses israéliennes
DESCRIPTION:  \nLe samedi 6 avril 2024 de 17h00 à minuitMarathon de danses israéliennes organisé par Art folk et Israeli folk dances BrusselsZaal Sint Maarten1\, veldeke1930 Zaventem
URL:https://www.dapo.be/event/marathon-de-danses-israeliennes/
LOCATION:Zaal Sint Maarten\, Veldeke\, 1\, Zaventem\, Vlaams Brabant\, 1930\, Belgique
CATEGORIES:Bals,Repas
ATTACH;FMTTYPE=image/jpeg:https://www.dapo.be/wp/wp-content/uploads/2023/10/Soiree-Harkada.jpg
ORGANIZER;CN="Art Folk":MAILTO:sophdick@gmail.com
END:VEVENT
BEGIN:VEVENT
DTSTART;TZID=Europe/Brussels:20240407T140000
DTEND;TZID=Europe/Brussels:20240407T190000
DTSTAMP:20260424T042213
CREATED:20231230T142533Z
LAST-MODIFIED:20240305T154204Z
UID:2124-1712498400-1712516400@www.dapo.be
SUMMARY:Pioneers Ball à Eghezée
DESCRIPTION:
URL:https://www.dapo.be/event/pioneers-ball-a-eghezee/
LOCATION:Salle des fêtes de Saint-Germain\, Route de Perwez 41\, Saint-Germain (Eghezée)\, Namur\, 5310\, Belgique
CATEGORIES:Bals
ATTACH;FMTTYPE=image/jpeg:https://www.dapo.be/wp/wp-content/uploads/2023/12/AfficheFR-2024-4-7.jpg
ORGANIZER;CN="Eagle Star Country Dancers":MAILTO:eaglestarcountrydancers@gmail.com
END:VEVENT
BEGIN:VEVENT
DTSTART;TZID=Europe/Brussels:20240420T200000
DTEND;TZID=Europe/Brussels:20240420T233000
DTSTAMP:20260424T042213
CREATED:20231205T153203Z
LAST-MODIFIED:20231205T153203Z
UID:2113-1713643200-1713655800@www.dapo.be
SUMMARY:P'tit bal du Harby avec E Saquant Beyaus
DESCRIPTION:
URL:https://www.dapo.be/event/ptit-bal-du-harby-avec-e-saquant-beyaus/
LOCATION:Le Harby\, Rue G. Mauroy\, Quevaucamps\, Hainaut\, 7972\, Belgique
CATEGORIES:Bals
ATTACH;FMTTYPE=image/jpeg:https://www.dapo.be/wp/wp-content/uploads/2023/12/avril2024-saquant-beyaus_page-0001-scaled.jpg
ORGANIZER;CN="Pas d'la Yau":MAILTO:pasdlayau@gmail.com
END:VEVENT
BEGIN:VEVENT
DTSTART;TZID=Europe/Brussels:20240421T140000
DTEND;TZID=Europe/Brussels:20240421T190000
DTSTAMP:20260424T042213
CREATED:20240318T062850Z
LAST-MODIFIED:20240318T063551Z
UID:2275-1713708000-1713726000@www.dapo.be
SUMMARY:Bal 1900 à Harmignies
DESCRIPTION:
URL:https://www.dapo.be/event/bal-1900-a-harmignies/
LOCATION:Salle Calva\, Rue Vieille Eglise 3\, Harmignies\, Hainaut\, 7022\, Belgique
CATEGORIES:Bals,Quinzaine de la Danse
ATTACH;FMTTYPE=image/jpeg:https://www.dapo.be/wp/wp-content/uploads/2024/03/QUha.jpg
END:VEVENT
BEGIN:VEVENT
DTSTART;TZID=Europe/Brussels:20240428T140000
DTEND;TZID=Europe/Brussels:20240428T190000
DTSTAMP:20260424T042213
CREATED:20240321T174718Z
LAST-MODIFIED:20240321T174718Z
UID:2313-1714312800-1714330800@www.dapo.be
SUMMARY:Country Fever
DESCRIPTION:
URL:https://www.dapo.be/event/country-fever-2/
LOCATION:Hall communal d’Orp-Le-Grand\, Place communale\, 3\, 1350 Orp-Le-Grand\, 1350
CATEGORIES:Bals
ATTACH;FMTTYPE=image/jpeg:https://www.dapo.be/wp/wp-content/uploads/2024/03/Affiche-Country-Fever-2024.jpg
ORGANIZER;CN="Eagle Star Country Dancers":MAILTO:eaglestarcountrydancers@gmail.com
END:VEVENT
END:VCALENDAR