BEGIN:VCALENDAR
VERSION:2.0
PRODID:-//Dapo - ECPv6.15.20//NONSGML v1.0//EN
CALSCALE:GREGORIAN
METHOD:PUBLISH
X-WR-CALNAME:Dapo
X-ORIGINAL-URL:https://www.dapo.be
X-WR-CALDESC:Évènements pour Dapo
REFRESH-INTERVAL;VALUE=DURATION:PT1H
X-Robots-Tag:noindex
X-PUBLISHED-TTL:PT1H
BEGIN:VTIMEZONE
TZID:Europe/Brussels
BEGIN:DAYLIGHT
TZOFFSETFROM:+0100
TZOFFSETTO:+0200
TZNAME:CEST
DTSTART:20230326T010000
END:DAYLIGHT
BEGIN:STANDARD
TZOFFSETFROM:+0200
TZOFFSETTO:+0100
TZNAME:CET
DTSTART:20231029T010000
END:STANDARD
BEGIN:DAYLIGHT
TZOFFSETFROM:+0100
TZOFFSETTO:+0200
TZNAME:CEST
DTSTART:20240331T010000
END:DAYLIGHT
BEGIN:STANDARD
TZOFFSETFROM:+0200
TZOFFSETTO:+0100
TZNAME:CET
DTSTART:20241027T010000
END:STANDARD
BEGIN:DAYLIGHT
TZOFFSETFROM:+0100
TZOFFSETTO:+0200
TZNAME:CEST
DTSTART:20250330T010000
END:DAYLIGHT
BEGIN:STANDARD
TZOFFSETFROM:+0200
TZOFFSETTO:+0100
TZNAME:CET
DTSTART:20251026T010000
END:STANDARD
END:VTIMEZONE
BEGIN:VEVENT
DTSTART;VALUE=DATE:20240614
DTEND;VALUE=DATE:20240618
DTSTAMP:20260424T013310
CREATED:20240321T175010Z
LAST-MODIFIED:20240321T175010Z
UID:2317-1718330400-1718589599@www.dapo.be
SUMMARY:7ème weekend costumé à Wégimont
DESCRIPTION:
URL:https://www.dapo.be/event/7eme-weekend-costume-a-wegimont/
LOCATION:Domaine de Wégimont\, Chaussée de Wégimont\, 76\, Soumagne\, 4630\, Belgique
CATEGORIES:Animations,Bals,Repas
ATTACH;FMTTYPE=image/png:https://www.dapo.be/wp/wp-content/uploads/2024/03/Wegimont-2024.png
ORGANIZER;CN="Sam'danse":MAILTO:samdanse.bxl@gmail.com
END:VEVENT
BEGIN:VEVENT
DTSTART;VALUE=DATE:20240617
DTEND;VALUE=DATE:20240625
DTSTAMP:20260424T013310
CREATED:20240311T170435Z
LAST-MODIFIED:20240322T060203Z
UID:2264-1718589600-1719194399@www.dapo.be
SUMMARY:38ème Festival Mondial de Folklore de la ville de Saint-Ghislain
DESCRIPTION:
URL:https://www.dapo.be/event/38eme-festival-mondial-de-folklore-de-la-ville-de-saint-ghislain/
LOCATION:Hall de Tertre à Saint-Ghislain\, Saint-Ghislain\, Hainaut\, 7333\, Belgique
CATEGORIES:Bals,Repas,Spectacles
ATTACH;FMTTYPE=image/jpeg:https://www.dapo.be/wp/wp-content/uploads/2024/03/Festifolk2024.jpg
ORGANIZER;CN="Festifolk":MAILTO:festifolk@skynet.be
END:VEVENT
END:VCALENDAR