BEGIN:VCALENDAR
VERSION:2.0
PRODID:-//Dapo - ECPv6.15.20//NONSGML v1.0//EN
CALSCALE:GREGORIAN
METHOD:PUBLISH
X-WR-CALNAME:Dapo
X-ORIGINAL-URL:https://www.dapo.be
X-WR-CALDESC:Évènements pour Dapo
REFRESH-INTERVAL;VALUE=DURATION:PT1H
X-Robots-Tag:noindex
X-PUBLISHED-TTL:PT1H
BEGIN:VTIMEZONE
TZID:Europe/Brussels
BEGIN:DAYLIGHT
TZOFFSETFROM:+0100
TZOFFSETTO:+0200
TZNAME:CEST
DTSTART:20230326T010000
END:DAYLIGHT
BEGIN:STANDARD
TZOFFSETFROM:+0200
TZOFFSETTO:+0100
TZNAME:CET
DTSTART:20231029T010000
END:STANDARD
BEGIN:DAYLIGHT
TZOFFSETFROM:+0100
TZOFFSETTO:+0200
TZNAME:CEST
DTSTART:20240331T010000
END:DAYLIGHT
BEGIN:STANDARD
TZOFFSETFROM:+0200
TZOFFSETTO:+0100
TZNAME:CET
DTSTART:20241027T010000
END:STANDARD
BEGIN:DAYLIGHT
TZOFFSETFROM:+0100
TZOFFSETTO:+0200
TZNAME:CEST
DTSTART:20250330T010000
END:DAYLIGHT
BEGIN:STANDARD
TZOFFSETFROM:+0200
TZOFFSETTO:+0100
TZNAME:CET
DTSTART:20251026T010000
END:STANDARD
END:VTIMEZONE
BEGIN:VEVENT
DTSTART;TZID=Europe/Brussels:20241103T140000
DTEND;TZID=Europe/Brussels:20241103T180000
DTSTAMP:20260423T182551
CREATED:20241025T050746Z
LAST-MODIFIED:20241025T050746Z
UID:2506-1730642400-1730656800@www.dapo.be
SUMMARY:Civil War Ball
DESCRIPTION:
URL:https://www.dapo.be/event/civil-war-ball/
LOCATION:Hall communal d’Orp-Le-Grand\, Place communale\, 3\, 1350 Orp-Le-Grand\, 1350
CATEGORIES:Bals
ATTACH;FMTTYPE=image/jpeg:https://www.dapo.be/wp/wp-content/uploads/2024/10/Affiche-eagle-star.jpg
ORGANIZER;CN="Eagle Star Country Dancers":MAILTO:eaglestarcountrydancers@gmail.com
END:VEVENT
BEGIN:VEVENT
DTSTART;TZID=Europe/Brussels:20241103T143000
DTEND;TZID=Europe/Brussels:20241103T183000
DTSTAMP:20260423T182551
CREATED:20241023T074822Z
LAST-MODIFIED:20241023T074822Z
UID:2497-1730644200-1730658600@www.dapo.be
SUMMARY:Bal Folk Ars Vivendi
DESCRIPTION:
URL:https://www.dapo.be/event/bal-folk-ars-vivendi/
LOCATION:Espace culturel de Néthen\, Place de Trémentines\, 1\, Néthen (Grez-Doiceau)\, Brabant wallon\, 1390\, Belgium
CATEGORIES:Bals
ATTACH;FMTTYPE=image/jpeg:https://www.dapo.be/wp/wp-content/uploads/2024/10/3-novembre-2024-jpg-14.jpg
ORGANIZER;CN="Marie-Jo%C3%ABlle Pazdera":MAILTO:uvacdm@gmail.com
END:VEVENT
BEGIN:VEVENT
DTSTART;TZID=Europe/Brussels:20241116T160000
DTEND;TZID=Europe/Brussels:20241116T233000
DTSTAMP:20260423T182551
CREATED:20240614T131437Z
LAST-MODIFIED:20241025T053348Z
UID:2459-1731772800-1731799800@www.dapo.be
SUMMARY:Stage de danses de Flandres et Bal folk avec Shillelagh
DESCRIPTION:Nous terminerons l’année 2024 en beauté et en nous faisant plaisir en invitant le groupe Shillelagh\, de renommée européenne pour un grand bal\, cette fois\, au foyer culturel de Beloeil \, 20 Rue Joseph Wauters à Quevaucamps \n \nAu programme : \n\n16h : Stage de danses de Flandre animé par les musiciens de Shillelagh (20€)\n20h : bal folk (10€)\nStage + bal : 25€\n\nRéservation : 0473/72.96.88 \nAvec le soutien du foyer culturel de Beloeil et de la DAPO que nous remercions chaleureusement. \nNous vous attendons nombreux pour partager ensemble ces beaux moments de danse \nVous retrouverez toutes les infos sur notre site internet : www.pasdlayau.be
URL:https://www.dapo.be/event/stage-de-danses-de-flandres-et-bal-folk-avec-shillelagh/
LOCATION:Foyer culturel de Belœil\, Rue Joseph Wouters\, 7972 Quevaucamps\, 7972\, Belgique
CATEGORIES:Bals,Stages et formations
ATTACH;FMTTYPE=image/jpeg:https://www.dapo.be/wp/wp-content/uploads/2024/06/439249657_1017389720013447_8805385703817284104_n.jpg
ORGANIZER;CN="Pas d'la Yau":MAILTO:pasdlayau@gmail.com
END:VEVENT
BEGIN:VEVENT
DTSTART;VALUE=DATE:20241130
DTEND;VALUE=DATE:20241202
DTSTAMP:20260423T182551
CREATED:20240614T130446Z
LAST-MODIFIED:20241025T050324Z
UID:2450-1732932000-1733018399@www.dapo.be
SUMMARY:Fest-noz et Stage de danses bretonnes
DESCRIPTION:Journée bretonne le samedi 30 novembre au Centre Communautaire Maritime \n  \nAttendu depuis longtemps\, le prochain fest-noz organisé par le Cercle Triskell aura lieu le samedi 30 novembre au Centre Communautaire Maritime\, à Molenbeek.  \n  \nNous aurons le plaisir d’accueillir pour cette occasion le duo Gloaguen / Le Hénaff. Sacrés champions de Bretagne des sonneurs dans la catégorie duo libre en 2015\, Tristan Gloaguen (saxophone\, chant) et Hyacinthe Le Hénaff (accordéon diatonique)  jouent ensemble depuis dix ans. Ils viendront nous faire danser et nous proposer un tour de Bretagne en danses: Cornouaille\, Centre-Bretagne\, pays vannetais et pays de Rennes et Nantes. Ils seront accompagnés durant la soirée par les amis sonneurs basés en Belgique et dans le Nord de la France. \n  \nLa journée commencera par un stage de danses bretonnes de 13h30 à 18h\, animé par Tristan Gloaguen. Ancien directeur délégué aux territoires de la confédération Kenleur et moniteur de danse des Danserien Ar C’hastell Nevez depuis 27 ans\, Tristan continue de collecter chants\, musiques et danses à travers la Bretagne et fait partager sa passion au public lors de nombreux stages et festoù-noz. \n  \nLes musiciens ne seront pas en reste et pourront suivre\, également le samedi après-midi\, un stage d’accordéon diatonique\, avec Hyacinthe Le Hénaff. Le duo que Hyacinthe forme avec Tristan Gloaguen a été champion de Bretagne des sonneurs dans la catégorie duo libre en 2015. Les inscriptions au stage d’accordéon seront ouvertes prochainement. \n  \nEn soirée\, à partir de 19h\, le fest-noz nous transportera au pays des gavottes\, andros\, laridés\, avant-deux\, et bien d’autres.  \n  \nSur place vous pourrez déguster galettes et crêpes\, et du cidre\, bien sûr. \n  \nNous vous attendons en nombre pour retrouver le plaisir des danses bretonnes le samedi 30 novembre au Centre Communautaire Maritime\, Rue Vandenboogaerde\, 93 – 1080 Molenbeek-Saint-Jean
URL:https://www.dapo.be/event/fest-noz-et-stage-de-danses-bretonnes/
LOCATION:Centre communautaire maritime\, Rue Vandenboogaerde\, 93\, 1080 Molenbeek-Saint-Jean\, Bruxelles-Capitale\, 1080\, Belgium
CATEGORIES:Bals,Stages et formations
ORGANIZER;CN="Cercle Triskell":MAILTO:cercletriskell.bruxelles@gmail.com
END:VEVENT
END:VCALENDAR