BEGIN:VCALENDAR
VERSION:2.0
PRODID:-//Dapo - ECPv6.15.20//NONSGML v1.0//EN
CALSCALE:GREGORIAN
METHOD:PUBLISH
X-ORIGINAL-URL:https://www.dapo.be
X-WR-CALDESC:Évènements pour Dapo
REFRESH-INTERVAL;VALUE=DURATION:PT1H
X-Robots-Tag:noindex
X-PUBLISHED-TTL:PT1H
BEGIN:VTIMEZONE
TZID:Europe/Brussels
BEGIN:DAYLIGHT
TZOFFSETFROM:+0100
TZOFFSETTO:+0200
TZNAME:CEST
DTSTART:20230326T010000
END:DAYLIGHT
BEGIN:STANDARD
TZOFFSETFROM:+0200
TZOFFSETTO:+0100
TZNAME:CET
DTSTART:20231029T010000
END:STANDARD
BEGIN:DAYLIGHT
TZOFFSETFROM:+0100
TZOFFSETTO:+0200
TZNAME:CEST
DTSTART:20240331T010000
END:DAYLIGHT
BEGIN:STANDARD
TZOFFSETFROM:+0200
TZOFFSETTO:+0100
TZNAME:CET
DTSTART:20241027T010000
END:STANDARD
BEGIN:DAYLIGHT
TZOFFSETFROM:+0100
TZOFFSETTO:+0200
TZNAME:CEST
DTSTART:20250330T010000
END:DAYLIGHT
BEGIN:STANDARD
TZOFFSETFROM:+0200
TZOFFSETTO:+0100
TZNAME:CET
DTSTART:20251026T010000
END:STANDARD
END:VTIMEZONE
BEGIN:VEVENT
DTSTART;TZID=Europe/Brussels:20241231T193000
DTEND;TZID=Europe/Brussels:20241231T233000
DTSTAMP:20260423T170018
CREATED:20241025T050544Z
LAST-MODIFIED:20241025T050544Z
UID:2503-1735673400-1735687800@www.dapo.be
SUMMARY:Bulles enchantées - Réveillon à Zaventem
DESCRIPTION:
URL:https://www.dapo.be/event/bulles-enchantees-reveillon-a-zaventem/
LOCATION:Zaal Sint Maarten\, Veldeke\, 1\, Zaventem\, Vlaams Brabant\, 1930\, Belgique
CATEGORIES:Bals,Repas
ATTACH;FMTTYPE=image/jpeg:https://www.dapo.be/wp/wp-content/uploads/2024/10/AFF.-Reveillon-2024-2025-2.jpg
END:VEVENT
END:VCALENDAR