BEGIN:VCALENDAR
VERSION:2.0
PRODID:-//Dapo - ECPv6.15.20//NONSGML v1.0//EN
CALSCALE:GREGORIAN
METHOD:PUBLISH
X-ORIGINAL-URL:https://www.dapo.be
X-WR-CALDESC:Évènements pour Dapo
REFRESH-INTERVAL;VALUE=DURATION:PT1H
X-Robots-Tag:noindex
X-PUBLISHED-TTL:PT1H
BEGIN:VTIMEZONE
TZID:Europe/Brussels
BEGIN:DAYLIGHT
TZOFFSETFROM:+0100
TZOFFSETTO:+0200
TZNAME:CEST
DTSTART:20240331T010000
END:DAYLIGHT
BEGIN:STANDARD
TZOFFSETFROM:+0200
TZOFFSETTO:+0100
TZNAME:CET
DTSTART:20241027T010000
END:STANDARD
BEGIN:DAYLIGHT
TZOFFSETFROM:+0100
TZOFFSETTO:+0200
TZNAME:CEST
DTSTART:20250330T010000
END:DAYLIGHT
BEGIN:STANDARD
TZOFFSETFROM:+0200
TZOFFSETTO:+0100
TZNAME:CET
DTSTART:20251026T010000
END:STANDARD
BEGIN:DAYLIGHT
TZOFFSETFROM:+0100
TZOFFSETTO:+0200
TZNAME:CEST
DTSTART:20260329T010000
END:DAYLIGHT
BEGIN:STANDARD
TZOFFSETFROM:+0200
TZOFFSETTO:+0100
TZNAME:CET
DTSTART:20261025T010000
END:STANDARD
END:VTIMEZONE
BEGIN:VEVENT
DTSTART;TZID=Europe/Brussels:20250125T190000
DTEND;TZID=Europe/Brussels:20250125T230000
DTSTAMP:20260423T151852
CREATED:20241212T202922Z
LAST-MODIFIED:20241212T202922Z
UID:2532-1737831600-1737846000@www.dapo.be
SUMMARY:P'tit Bal au Harby avec 3...4
DESCRIPTION:Et maintenant ? Nous reprenons nos traditionnels P’tits bal au harby. L’année 2025 est déjà programmée ! \n\n\n  \n\n\n25 janvier : groupe 3..4 \n\n \n\nLocal « Le Harby » rue Georges Mauroy à Quevaucamps  à 20h\n10€ (gratuit pour les moins de 12 ans) – 2 tickets boisson pour les membres Pas d’la Yau \n\n\n  \n\n\nAu plaisir de vous y retrouver !
URL:https://www.dapo.be/event/ptit-bal-au-harby-avec-3-4/
LOCATION:Le Harby\, Rue G. Mauroy\, Quevaucamps\, Hainaut\, 7972\, Belgique
CATEGORIES:Bals
ORGANIZER;CN="Pas d'la Yau":MAILTO:pasdlayau@gmail.com
END:VEVENT
END:VCALENDAR