BEGIN:VCALENDAR
VERSION:2.0
PRODID:-//Dapo - ECPv6.15.18//NONSGML v1.0//EN
CALSCALE:GREGORIAN
METHOD:PUBLISH
X-ORIGINAL-URL:https://www.dapo.be
X-WR-CALDESC:Évènements pour Dapo
REFRESH-INTERVAL;VALUE=DURATION:PT1H
X-Robots-Tag:noindex
X-PUBLISHED-TTL:PT1H
BEGIN:VTIMEZONE
TZID:Europe/Brussels
BEGIN:DAYLIGHT
TZOFFSETFROM:+0100
TZOFFSETTO:+0200
TZNAME:CEST
DTSTART:20240331T010000
END:DAYLIGHT
BEGIN:STANDARD
TZOFFSETFROM:+0200
TZOFFSETTO:+0100
TZNAME:CET
DTSTART:20241027T010000
END:STANDARD
BEGIN:DAYLIGHT
TZOFFSETFROM:+0100
TZOFFSETTO:+0200
TZNAME:CEST
DTSTART:20250330T010000
END:DAYLIGHT
BEGIN:STANDARD
TZOFFSETFROM:+0200
TZOFFSETTO:+0100
TZNAME:CET
DTSTART:20251026T010000
END:STANDARD
BEGIN:DAYLIGHT
TZOFFSETFROM:+0100
TZOFFSETTO:+0200
TZNAME:CEST
DTSTART:20260329T010000
END:DAYLIGHT
BEGIN:STANDARD
TZOFFSETFROM:+0200
TZOFFSETTO:+0100
TZNAME:CET
DTSTART:20261025T010000
END:STANDARD
END:VTIMEZONE
BEGIN:VEVENT
DTSTART;TZID=Europe/Brussels:20250301T090000
DTEND;TZID=Europe/Brussels:20250303T170000
DTSTAMP:20260423T122455
CREATED:20241026T071518Z
LAST-MODIFIED:20241026T071518Z
UID:2525-1740819600-1741021200@www.dapo.be
SUMMARY:Voyage Dansé chez le Duc de Buckingham
DESCRIPTION:Les compagnie Aliquam Amentis et Ars Vivendi vous convient à leur événement annuel « Voyage Dansé ». Cette année le thème sera le 17ème siècle anglais\, autour des danses de John Playford et des trois mousquetaires. Au programme: \n\nStage de contredanse anglaise à figure avec Ann Hinchcliffe\nStage de musique ancienne d’ensemble avec Aline Hopchet\nRepas d’époque et bal en costume le samedi soir\nVisite guidée « Bruxelles baroque »\nAteliers créatifs et animations\n\nRetouvez toutes les informations sur le site web: https://aliquam-amentis.com/voyage-danse-chez-le-duc-de-buckingham/
URL:https://www.dapo.be/event/voyage-danse-chez-le-duc-de-buckingham/
LOCATION:Espace culturel de Néthen\, Place de Trémentines\, 1\, Néthen (Grez-Doiceau)\, Brabant wallon\, 1390\, Belgium
CATEGORIES:Animations,Bals,Repas,Stages et formations
ATTACH;FMTTYPE=image/png:https://www.dapo.be/wp/wp-content/uploads/2024/10/VD2025-general1.png
ORGANIZER;CN="Aliquam Amentis":MAILTO:info@aliquam-amentis.com
END:VEVENT
BEGIN:VEVENT
DTSTART;TZID=Europe/Brussels:20250322T183000
DTEND;TZID=Europe/Brussels:20250322T230000
DTSTAMP:20260423T122455
CREATED:20241216T134529Z
LAST-MODIFIED:20241216T134529Z
UID:2579-1742668200-1742684400@www.dapo.be
SUMMARY:Bal de la Farandole d'Anderlecht
DESCRIPTION:
URL:https://www.dapo.be/event/bal-de-la-farandole-danderlecht/
LOCATION:Salle Java\, Drève olympique\, 60\, Anderlecht\, Bruxelles Capitale\, 1070\, Belgique
CATEGORIES:Bals
ATTACH;FMTTYPE=image/png:https://www.dapo.be/wp/wp-content/uploads/2024/12/BAL-3-.png
ORGANIZER;CN="Farandole Anderlecht":MAILTO:info@farandoledanderlecht.be
END:VEVENT
BEGIN:VEVENT
DTSTART;TZID=Europe/Brussels:20250323T133000
DTEND;TZID=Europe/Brussels:20250323T180000
DTSTAMP:20260423T122455
CREATED:20241216T132951Z
LAST-MODIFIED:20241216T134213Z
UID:2559-1742736600-1742752800@www.dapo.be
SUMMARY:6ème bal victorien des American Old Time Dancers
DESCRIPTION:
URL:https://www.dapo.be/event/2559/
LOCATION:Salle de l’Amitié\, Rue Charles Jaumotte 54\, Limal\, Brabant Wallon\, 1300\, Belgique
CATEGORIES:Bals
ATTACH;FMTTYPE=image/png:https://www.dapo.be/wp/wp-content/uploads/2024/12/aotd.png
ORGANIZER;CN="American Old Time Dancers":MAILTO:aotd1300@gmail.com
END:VEVENT
BEGIN:VEVENT
DTSTART;TZID=Europe/Brussels:20250329T140000
DTEND;TZID=Europe/Brussels:20250329T180000
DTSTAMP:20260423T122455
CREATED:20241216T134346Z
LAST-MODIFIED:20241216T134346Z
UID:2575-1743256800-1743271200@www.dapo.be
SUMMARY:Bal country de Country Genappe
DESCRIPTION:
URL:https://www.dapo.be/event/bal-country-de-country-genappe-2/
LOCATION:Collège Cardinal Mercier\, Chaussée de Mont-Saint-Jean 83\, Braine l'Alleud\, Brabant Wallon\, 1420\, Belgique
CATEGORIES:Bals
ATTACH;FMTTYPE=image/jpeg:https://www.dapo.be/wp/wp-content/uploads/2024/12/country-genappe-bal-.jpg
END:VEVENT
END:VCALENDAR