BEGIN:VCALENDAR
VERSION:2.0
PRODID:-//Dapo - ECPv6.15.20//NONSGML v1.0//EN
CALSCALE:GREGORIAN
METHOD:PUBLISH
X-WR-CALNAME:Dapo
X-ORIGINAL-URL:https://www.dapo.be
X-WR-CALDESC:Évènements pour Dapo
REFRESH-INTERVAL;VALUE=DURATION:PT1H
X-Robots-Tag:noindex
X-PUBLISHED-TTL:PT1H
BEGIN:VTIMEZONE
TZID:Europe/Brussels
BEGIN:DAYLIGHT
TZOFFSETFROM:+0100
TZOFFSETTO:+0200
TZNAME:CEST
DTSTART:20240331T010000
END:DAYLIGHT
BEGIN:STANDARD
TZOFFSETFROM:+0200
TZOFFSETTO:+0100
TZNAME:CET
DTSTART:20241027T010000
END:STANDARD
BEGIN:DAYLIGHT
TZOFFSETFROM:+0100
TZOFFSETTO:+0200
TZNAME:CEST
DTSTART:20250330T010000
END:DAYLIGHT
BEGIN:STANDARD
TZOFFSETFROM:+0200
TZOFFSETTO:+0100
TZNAME:CET
DTSTART:20251026T010000
END:STANDARD
BEGIN:DAYLIGHT
TZOFFSETFROM:+0100
TZOFFSETTO:+0200
TZNAME:CEST
DTSTART:20260329T010000
END:DAYLIGHT
BEGIN:STANDARD
TZOFFSETFROM:+0200
TZOFFSETTO:+0100
TZNAME:CET
DTSTART:20261025T010000
END:STANDARD
END:VTIMEZONE
BEGIN:VEVENT
DTSTART;TZID=Europe/Brussels:20250406T100000
DTEND;TZID=Europe/Brussels:20250406T160000
DTSTAMP:20260423T213956
CREATED:20250313T171904Z
LAST-MODIFIED:20250313T171904Z
UID:2690-1743933600-1743955200@www.dapo.be
SUMMARY:28ème rituel de la Compagnie Galouche
DESCRIPTION:Le 6 avril toute la journée se fera le 28ème rituel et les 30 ans de la compagnie Galouche. Le groupe de danseurs d’épées dansera dans les rues de Quevaucamps accompagné de groupes amis : le groupe In de Kring de Dunkerque et le groupe Lange Wapper d’Anvers. \n10h sur la place de Quevaucamps \n11h30 devant le gîte Ajiste à Aubechies \n15h : château de Beloeil ou place de Tournai à préciser \nToutes les infos seront disponibles ici : https://pasdlayau.be/evenement/28eme-rituel-et-30-ans-de-la-compagnie-galouche/
URL:https://www.dapo.be/event/28eme-rituel-de-la-compagnie-galouche/
LOCATION:Hainaut
CATEGORIES:Spectacles
ORGANIZER;CN="Pas d'la Yau":MAILTO:pasdlayau@gmail.com
END:VEVENT
BEGIN:VEVENT
DTSTART;VALUE=DATE:20250419
DTEND;VALUE=DATE:20250422
DTSTAMP:20260423T213956
CREATED:20241216T133408Z
LAST-MODIFIED:20250310T161041Z
UID:2565-1745028000-1745200799@www.dapo.be
SUMMARY:Gala de danses traditionnelles de l'ensemble Clap'Sabots
DESCRIPTION:
URL:https://www.dapo.be/event/gala-de-danses-traditionnelles-de-lensemble-clapsabots/
LOCATION:Centre Destelheide\, Destelheidestraat 66\, Dworp Beersel\, Brabant flamand\, 1653
CATEGORIES:Quinzaine de la Danse,Spectacles
ATTACH;FMTTYPE=image/png:https://www.dapo.be/wp/wp-content/uploads/2024/12/clap.png
ORGANIZER;CN="Clap'Sabots":MAILTO:contact@clapsabots.be
END:VEVENT
BEGIN:VEVENT
DTSTART;TZID=Europe/Brussels:20250427T130000
DTEND;TZID=Europe/Brussels:20250427T170000
DTSTAMP:20260423T213956
CREATED:20250421T121909Z
LAST-MODIFIED:20250421T121909Z
UID:2775-1745758800-1745773200@www.dapo.be
SUMMARY:Fête de la Saint-Georges à Grez-Doiceau
DESCRIPTION:Ars Vivendi danse pour la fête de la Saint Georges à Grez-Doiceau le 27 avril (animations de rue).
URL:https://www.dapo.be/event/fete-de-la-saint-georges-a-grez-doiceau/
LOCATION:Hainaut
CATEGORIES:Animations,Spectacles
ORGANIZER;CN="Marie-Jo%C3%ABlle Pazdera":MAILTO:uvacdm@gmail.com
END:VEVENT
END:VCALENDAR