BEGIN:VCALENDAR
VERSION:2.0
PRODID:-//Dapo - ECPv6.15.18//NONSGML v1.0//EN
CALSCALE:GREGORIAN
METHOD:PUBLISH
X-WR-CALNAME:Dapo
X-ORIGINAL-URL:https://www.dapo.be
X-WR-CALDESC:Évènements pour Dapo
REFRESH-INTERVAL;VALUE=DURATION:PT1H
X-Robots-Tag:noindex
X-PUBLISHED-TTL:PT1H
BEGIN:VTIMEZONE
TZID:Europe/Brussels
BEGIN:DAYLIGHT
TZOFFSETFROM:+0100
TZOFFSETTO:+0200
TZNAME:CEST
DTSTART:20240331T010000
END:DAYLIGHT
BEGIN:STANDARD
TZOFFSETFROM:+0200
TZOFFSETTO:+0100
TZNAME:CET
DTSTART:20241027T010000
END:STANDARD
BEGIN:DAYLIGHT
TZOFFSETFROM:+0100
TZOFFSETTO:+0200
TZNAME:CEST
DTSTART:20250330T010000
END:DAYLIGHT
BEGIN:STANDARD
TZOFFSETFROM:+0200
TZOFFSETTO:+0100
TZNAME:CET
DTSTART:20251026T010000
END:STANDARD
BEGIN:DAYLIGHT
TZOFFSETFROM:+0100
TZOFFSETTO:+0200
TZNAME:CEST
DTSTART:20260329T010000
END:DAYLIGHT
BEGIN:STANDARD
TZOFFSETFROM:+0200
TZOFFSETTO:+0100
TZNAME:CET
DTSTART:20261025T010000
END:STANDARD
END:VTIMEZONE
BEGIN:VEVENT
DTSTART;TZID=Europe/Brussels:20251011T120000
DTEND;TZID=Europe/Brussels:20251011T170000
DTSTAMP:20260423T124135
CREATED:20250916T132106Z
LAST-MODIFIED:20250916T132106Z
UID:2904-1760184000-1760202000@www.dapo.be
SUMMARY:4ème cabaret wallon dansant des Tayettes
DESCRIPTION:Infos et réservations: 0478 555420
URL:https://www.dapo.be/event/4eme-cabaret-wallon-dansant-des-tayettes/
LOCATION:Hainaut
CATEGORIES:Repas,Spectacles
ORGANIZER;CN="Christine Hermal":MAILTO:ch.hermal@hotmail.be
END:VEVENT
END:VCALENDAR