BEGIN:VCALENDAR
VERSION:2.0
PRODID:-//Dapo - ECPv6.15.18//NONSGML v1.0//EN
CALSCALE:GREGORIAN
METHOD:PUBLISH
X-ORIGINAL-URL:https://www.dapo.be
X-WR-CALDESC:Évènements pour Dapo
REFRESH-INTERVAL;VALUE=DURATION:PT1H
X-Robots-Tag:noindex
X-PUBLISHED-TTL:PT1H
BEGIN:VTIMEZONE
TZID:Europe/Brussels
BEGIN:DAYLIGHT
TZOFFSETFROM:+0100
TZOFFSETTO:+0200
TZNAME:CEST
DTSTART:20240331T010000
END:DAYLIGHT
BEGIN:STANDARD
TZOFFSETFROM:+0200
TZOFFSETTO:+0100
TZNAME:CET
DTSTART:20241027T010000
END:STANDARD
BEGIN:DAYLIGHT
TZOFFSETFROM:+0100
TZOFFSETTO:+0200
TZNAME:CEST
DTSTART:20250330T010000
END:DAYLIGHT
BEGIN:STANDARD
TZOFFSETFROM:+0200
TZOFFSETTO:+0100
TZNAME:CET
DTSTART:20251026T010000
END:STANDARD
BEGIN:DAYLIGHT
TZOFFSETFROM:+0100
TZOFFSETTO:+0200
TZNAME:CEST
DTSTART:20260329T010000
END:DAYLIGHT
BEGIN:STANDARD
TZOFFSETFROM:+0200
TZOFFSETTO:+0100
TZNAME:CET
DTSTART:20261025T010000
END:STANDARD
END:VTIMEZONE
BEGIN:VEVENT
DTSTART;VALUE=DATE:20251115
DTEND;VALUE=DATE:20251118
DTSTAMP:20260423T105734
CREATED:20250916T131200Z
LAST-MODIFIED:20250916T131200Z
UID:2898-1763172000-1763344799@www.dapo.be
SUMMARY:Tradi'Fièt des Pas d'la Yau
DESCRIPTION:
URL:https://www.dapo.be/event/tradifiet-des-pas-dla-yau/
LOCATION:Foyer culturel de Belœil\, Rue Joseph Wouters\, 7972 Quevaucamps\, 7972\, Belgique
CATEGORIES:Spectacles,Stages et formations
ATTACH;FMTTYPE=image/png:https://www.dapo.be/wp/wp-content/uploads/2025/09/TradiFiet-2.png
ORGANIZER;CN="Pas d'la Yau":MAILTO:pasdlayau@gmail.com
END:VEVENT
END:VCALENDAR